BEGIN:VCALENDAR
VERSION:2.0
PRODID:-//Embassy of Haiti - ECPv6.15.18//NONSGML v1.0//EN
CALSCALE:GREGORIAN
METHOD:PUBLISH
X-WR-CALNAME:Embassy of Haiti
X-ORIGINAL-URL:https://www.haiti.org
X-WR-CALDESC:Events for Embassy of Haiti
REFRESH-INTERVAL;VALUE=DURATION:PT1H
X-Robots-Tag:noindex
X-PUBLISHED-TTL:PT1H
BEGIN:VTIMEZONE
TZID:America/New_York
BEGIN:DAYLIGHT
TZOFFSETFROM:-0500
TZOFFSETTO:-0400
TZNAME:EDT
DTSTART:20250309T070000
END:DAYLIGHT
BEGIN:STANDARD
TZOFFSETFROM:-0400
TZOFFSETTO:-0500
TZNAME:EST
DTSTART:20251102T060000
END:STANDARD
BEGIN:DAYLIGHT
TZOFFSETFROM:-0500
TZOFFSETTO:-0400
TZNAME:EDT
DTSTART:20260308T070000
END:DAYLIGHT
BEGIN:STANDARD
TZOFFSETFROM:-0400
TZOFFSETTO:-0500
TZNAME:EST
DTSTART:20261101T060000
END:STANDARD
BEGIN:DAYLIGHT
TZOFFSETFROM:-0500
TZOFFSETTO:-0400
TZNAME:EDT
DTSTART:20270314T070000
END:DAYLIGHT
BEGIN:STANDARD
TZOFFSETFROM:-0400
TZOFFSETTO:-0500
TZNAME:EST
DTSTART:20271107T060000
END:STANDARD
END:VTIMEZONE
BEGIN:VEVENT
DTSTART;VALUE=DATE:20260119
DTEND;VALUE=DATE:20260120
DTSTAMP:20260423T220402
CREATED:20190120T170724Z
LAST-MODIFIED:20260107T201711Z
UID:51799-1768780800-1768867199@www.haiti.org
SUMMARY:Martin Luther King\, Jr.’s Birthday
DESCRIPTION:The Embassy of Haïti in Washington\, D.C.\, will be closed on Monday\, January 19\, 2026\, for Martin Luther King\, Jr.’s Birthday (Federal Holiday). \nWe will be pleased to serve you again on Tuesday\, January 20\, 2026\, from 9:00 a.m.
URL:https://www.haiti.org/event/martin-luther-king-jr-s-birthday/
CATEGORIES:EOH Calendar
ATTACH;FMTTYPE=image/jpeg:https://www.haiti.org/wp-content/uploads/2019/01/Martin-Luther-King.jpg
END:VEVENT
END:VCALENDAR