BEGIN:VCALENDAR
VERSION:2.0
PRODID:-//Embassy of Haiti - ECPv6.15.18//NONSGML v1.0//EN
CALSCALE:GREGORIAN
METHOD:PUBLISH
X-WR-CALNAME:Embassy of Haiti
X-ORIGINAL-URL:https://www.haiti.org
X-WR-CALDESC:Events for Embassy of Haiti
REFRESH-INTERVAL;VALUE=DURATION:PT1H
X-Robots-Tag:noindex
X-PUBLISHED-TTL:PT1H
BEGIN:VTIMEZONE
TZID:America/New_York
BEGIN:DAYLIGHT
TZOFFSETFROM:-0500
TZOFFSETTO:-0400
TZNAME:EDT
DTSTART:20250309T070000
END:DAYLIGHT
BEGIN:STANDARD
TZOFFSETFROM:-0400
TZOFFSETTO:-0500
TZNAME:EST
DTSTART:20251102T060000
END:STANDARD
BEGIN:DAYLIGHT
TZOFFSETFROM:-0500
TZOFFSETTO:-0400
TZNAME:EDT
DTSTART:20260308T070000
END:DAYLIGHT
BEGIN:STANDARD
TZOFFSETFROM:-0400
TZOFFSETTO:-0500
TZNAME:EST
DTSTART:20261101T060000
END:STANDARD
BEGIN:DAYLIGHT
TZOFFSETFROM:-0500
TZOFFSETTO:-0400
TZNAME:EDT
DTSTART:20270314T070000
END:DAYLIGHT
BEGIN:STANDARD
TZOFFSETFROM:-0400
TZOFFSETTO:-0500
TZNAME:EST
DTSTART:20271107T060000
END:STANDARD
END:VTIMEZONE
BEGIN:VEVENT
DTSTART;VALUE=DATE:20260216
DTEND;VALUE=DATE:20260217
DTSTAMP:20260421T080731
CREATED:20190120T171803Z
LAST-MODIFIED:20260107T202114Z
UID:51801-1771200000-1771286399@www.haiti.org
SUMMARY:George Washington’s Birthday
DESCRIPTION:The Embassy of Haïti in Washington\, D.C.\, will be closed on Monday\, February 16\, 2026\, for George Washington’s Birthday. \nWe will be pleased to serve you again on Tuesday\, February 17\, 2026\, from 9:00 a.m.
URL:https://www.haiti.org/event/george-washingtons-birthday/
CATEGORIES:EOH Calendar
ATTACH;FMTTYPE=image/jpeg:https://www.haiti.org/wp-content/uploads/2019/01/George-Washington.jpg
END:VEVENT
END:VCALENDAR